BEGIN:VCALENDAR
VERSION:2.0
PRODID:DPCALENDAR
CALSCALE:GREGORIAN
BEGIN:VTIMEZONE
TZID:Europe/Berlin
X-MICROSOFT-CDO-TZID:4
BEGIN:STANDARD
DTSTART:20251026T010000
TZOFFSETFROM:+0200
TZOFFSETTO:+0100
TZNAME:CET
END:STANDARD
BEGIN:STANDARD
DTSTART:20261025T010000
TZOFFSETFROM:+0200
TZOFFSETTO:+0100
TZNAME:CET
END:STANDARD
BEGIN:DAYLIGHT
DTSTART:20260329T010000
TZOFFSETFROM:+0100
TZOFFSETTO:+0200
TZNAME:CEST
END:DAYLIGHT
END:VTIMEZONE
X-WR-TIMEZONE:Europe/Berlin
BEGIN:VEVENT
DTSTART;TZID=Europe/Berlin:20191204T150000
DTEND;TZID=Europe/Berlin:20191204T150000
UID:D3214BBF-0570-4C0F-B510-C74CF2DB554A
SUMMARY:Adventfeier
CREATED:20191121T190729Z
DTSTAMP:20191121T190729Z
URL:https://aloysius-oberbruch.de/informationen/termine/adventfeier
DESCRIPTION:Adventfeier für unsere Mitglieder in der Festhalle Oberbruch in den Räumen Eschweiler/Hülhoven\NEinlass ab 14:30 Uhr
X-ALT-DESC;FMTTYPE=text/html:<p><span style="font-family: Arial, serif;"><span style="font-size: medium;"><b>Adventfeier</b></span></span><span style="font-family: Arial, serif;"><span style="font-size: medium;"> für unsere Mitglieder in der Festhalle Oberbruch in den Räumen Eschweiler/Hülhoven</span></span></p><p>Einlass ab 14:30 Uhr</p>
LAST-MODIFIED:20191121T190751Z
SEQUENCE:22
X-ACCESS:1
X-HITS:401
X-COLOR:494948
X-SHOW-END-TIME:0
END:VEVENT
BEGIN:VEVENT
DTSTART;TZID=Europe/Berlin:20191213T140000
DTEND;TZID=Europe/Berlin:20191213T140000
UID:F29FA4BE-5D6E-4E73-94B4-000F8F110DDE
SUMMARY:Fahrt zum Weihnachtsmarkt in Kempen
CREATED:20191121T190910Z
DTSTAMP:20191121T190910Z
URL:https://aloysius-oberbruch.de/informationen/termine/fahrt-zum-weihnachtsmarkt-in-kempen
DESCRIPTION:Fahrt zum Weihnachtsmarkt in Kempen\N Abfahrt 14.00 Uhr Aloysiusplatz u. weitere bekannte Haltestellen\NRückfahrt ca. 20.30 Uhr\N Preis für Mitglieder 12,00 €\N Preis für Nichtmitglieder 14,00 €\NInfo und Anmeldung bei Christel Pelzer Tel. 02452 63539
X-ALT-DESC;FMTTYPE=text/html:<p><span style="font-family: Arial, serif;"><span style="font-size: medium;"><b>Fahrt zum Weihnachtsmarkt</b></span></span><span style="font-family: Arial, serif;"><span style="font-size: medium;"> in Kempen</span></span></p><p><span style="font-family: Arial, serif;"><span style="font-size: medium;"> Abfahrt 14.00 Uhr Aloysiusplatz u. weitere bekannte Haltestellen</span></span></p><p><span style="font-family: Arial, serif;"><span style="font-size: medium;">Rückfahrt ca. 20.30 Uhr</span></span></p><p><span style="font-family: Arial, serif;"><span style="font-size: medium;"> Preis für Mitglieder 12,00 €</span></span></p><p><span style="font-family: Arial, serif;"><span style="font-size: medium;"> Preis für Nichtmitglieder 14,00 €</span></span></p><p><span style="font-family: Arial, serif;"><span style="font-size: medium;">Info und Anmeldung bei Christel Pelzer Tel. 02452 63539</span></span></p>
X-ACCESS:1
X-HITS:1039
X-COLOR:494948
X-SHOW-END-TIME:0
END:VEVENT
BEGIN:VEVENT
DTSTART;TZID=Europe/Berlin:20191216T190000
DTEND;TZID=Europe/Berlin:20191216T200000
UID:2AEBAD22-2DBF-4818-AE48-9BF93D80EFE9
SUMMARY:Meditation
CREATED:20191121T191024Z
DTSTAMP:20191121T191024Z
URL:https://aloysius-oberbruch.de/informationen/termine/meditation
DESCRIPTION:Meditation vor Weihnachten im Dechant-Sauer-Haus, Mittelstr. 1 um 19:00 Uhr\NEine Anmeldung ist nicht erforderlich
X-ALT-DESC;FMTTYPE=text/html:<p><span style="font-family: Arial, serif;"><span style="font-size: medium;"><b>Meditation</b></span></span><span style="font-family: Arial, serif;"><span style="font-size: medium;"> vor Weihnachten im Dechant-Sauer-Haus, Mittelstr. 1</span></span> um 19:00 Uhr</p><p><span style="font-family: Arial, serif;"><span style="font-size: medium;">Eine Anmeldung ist nicht erforderlich</span></span></p>
LOCATION:Mittelstraße 1\, 52525 Heinsberg
GEO:51.06235526;6.14783764
X-LOCATION-DISPLAYNAME:Dechant-Sauer-Haus Oberbruch
X-ACCESS:1
X-HITS:418
X-COLOR:494948
X-SHOW-END-TIME:0
END:VEVENT
BEGIN:VEVENT
DTSTART;TZID=Europe/Berlin:20200113T180000
DTEND;TZID=Europe/Berlin:20200113T200000
UID:5F7B7AC2-8813-4093-85F5-490FB3CE2047
SUMMARY:Kartenvorverkauf für Karnevalssitzung der Brööker Frauen
CREATED:20191222T144922Z
DTSTAMP:20191222T144922Z
URL:https://www.aloysius-oberbruch.de/component/dpcalendar/event/9?calid=15
LOCATION:Mittelstraße 1\, 52525 Heinsberg
GEO:51.06235526;6.14783764
X-LOCATION-DISPLAYNAME:Dechant-Sauer-Haus Oberbruch
X-ACCESS:1
X-HITS:249
X-COLOR:494948
X-SHOW-END-TIME:1
END:VEVENT
BEGIN:VEVENT
DTSTART;TZID=Europe/Berlin:20200124T191100
DTEND;TZID=Europe/Berlin:20200124T201100
UID:0CC4D3D9-3339-4642-B496-29E4CA8C33AE
SUMMARY:Karnevalssitzung der Brööker Frauen
CREATED:20191222T143907Z
DTSTAMP:20191222T143907Z
URL:https://aloysius-oberbruch.de/informationen/termine/karnevalssitzung-der-broeoeker-frauen
DESCRIPTION:Beginn: 19.11 UhrEinlass: 18.00 Uhr\NEt kütt wie ett kütt,\N ett hätt no imma jot jejannge!\N Brook Alaaf!\N Frauengemeinschaft Alaaf!\NEintrittspreise: Mitglieder: 10,00 € Nichtmitglieder: 12,00 €\NKartenvorverkauf: Dechant-Sauer-Haus Montag, 13.01.2020 18.00 bis 20.00 Uhr Danach nur telefonisch: 02452/62098 (G. Salden)
X-ALT-DESC;FMTTYPE=text/html:<p class="western"><span style="font-family: Arial Narrow, sans-serif;"><strong>Beginn</strong>: 19.11 Uhr<br /><strong>Einlass</strong>: 18.00 Uhr</span></p><p class="western" style="text-align: center;"><span style="font-family: Kristen ITC, cursive;">Et kütt wie ett kütt,</span></p><p class="western" style="text-align: center;"><span style="font-family: Kristen ITC, cursive;"> ett hätt no imma jot jejannge!</span></p><p class="western" style="text-align: center;"><span style="font-family: Arial Narrow, sans-serif;"> Brook Alaaf!</span></p><p class="western" style="text-align: center;"><span style="font-family: Arial Narrow, sans-serif;"> Frauengemeinschaft Alaaf!</span></p><p><strong>Eintrittspreise</strong>:<br /> Mitglieder: 10,00 €<br /> Nichtmitglieder: 12,00 €</p><p><strong>Kartenvorverkauf</strong>:<br /> Dechant-Sauer-Haus<br /> Montag, 13.01.2020 18.00 bis 20.00 Uhr<br /> Danach nur telefonisch: 02452/62098 (G. Salden)</p>
LAST-MODIFIED:20191222T144718Z
SEQUENCE:491
X-ACCESS:1
X-HITS:1027
X-COLOR:494948
X-SHOW-END-TIME:0
END:VEVENT
BEGIN:VEVENT
DTSTART;TZID=Europe/Berlin:20201104T123000
DTEND;TZID=Europe/Berlin:20201104T220000
UID:2E21F1CE-1B93-4F9C-B450-E821D69E9285
SUMMARY:Wanderung im Birgelener Urwald
CREATED:20201023T192447Z
DTSTAMP:20201023T192447Z
URL:https://aloysius-oberbruch.de/informationen/termine/wanderung-im-birgelener-urwald
DESCRIPTION:Treffpunkt Aloysiusplatz OberbruchAbfahrt in eigenen Pkw’s in Fahrgemeinschaften um 12.30 Uhr\NAnmeldungen bei Renate von den Driesch Tel. 02452 62318 undChristel Pelzer Tel. 02452 63539\NAnfahrt und Wanderung natürlich unter den dann geltenden Corona-Schutzregeln.
X-ALT-DESC;FMTTYPE=text/html:<p>Treffpunkt Aloysiusplatz Oberbruch<br />Abfahrt in eigenen Pkw’s in Fahrgemeinschaften um 12.30 Uhr</p><p>Anmeldungen bei Renate von den Driesch Tel. 02452 62318 und<br />Christel Pelzer Tel. 02452 63539</p><p>Anfahrt und Wanderung natürlich unter den dann geltenden Corona-Schutzregeln.</p>
X-ACCESS:1
X-HITS:558
X-COLOR:494948
X-SHOW-END-TIME:0
END:VEVENT
BEGIN:VEVENT
DTSTART;TZID=Europe/Berlin:20201202T090000
DTEND;TZID=Europe/Berlin:20201202T100000
UID:F5941DEB-69E4-4686-9788-82DA9814330A
SUMMARY:Gemeinschafts-Gottesdienst im Advent
CREATED:20201023T192531Z
DTSTAMP:20201023T192531Z
URL:https://aloysius-oberbruch.de/informationen/termine/gemeinschafts-gottesdienst-im-advent
X-ACCESS:1
X-HITS:678
X-COLOR:494948
X-SHOW-END-TIME:0
END:VEVENT
END:VCALENDAR