BEGIN:VCALENDAR
VERSION:2.0
PRODID:DPCALENDAR
CALSCALE:GREGORIAN
BEGIN:VTIMEZONE
TZID:Europe/Berlin
X-MICROSOFT-CDO-TZID:4
BEGIN:STANDARD
DTSTART:20251026T010000
TZOFFSETFROM:+0200
TZOFFSETTO:+0100
TZNAME:CET
END:STANDARD
BEGIN:STANDARD
DTSTART:20261025T010000
TZOFFSETFROM:+0200
TZOFFSETTO:+0100
TZNAME:CET
END:STANDARD
BEGIN:DAYLIGHT
DTSTART:20260329T010000
TZOFFSETFROM:+0100
TZOFFSETTO:+0200
TZNAME:CEST
END:DAYLIGHT
END:VTIMEZONE
X-WR-TIMEZONE:Europe/Berlin
BEGIN:VEVENT
DTSTART;TZID=Europe/Berlin:20200517T103000
DTEND;TZID=Europe/Berlin:20200517T113000
UID:A413DAD4-5417-4F7C-82BD-6BCC16BD65BF
SUMMARY:Hl. Messe am 17.05.2020
CREATED:20200513T182228Z
DTSTAMP:20200513T182228Z
URL:https://aloysius-oberbruch.de/informationen/termine/hl-messe
DESCRIPTION:Telefonische Anmeldung im Pfarrbüro erforderlich.Weitere Informationen hier.
X-ALT-DESC;FMTTYPE=text/html:<p>Telefonische Anmeldung im Pfarrbüro erforderlich.<br />Weitere Informationen <a href="https://aloysius-oberbruch.de/?view=article&id=37:erster-gottesdienst-am-10-mai-2020-information-und-regeln&catid=16:aktuell">hier</a>.</p>
LAST-MODIFIED:20200513T185945Z
SEQUENCE:2237
LOCATION:Boos-Fremery-Str. 1\, 52525 Heinsberg
GEO:51.06102016;6.14655139
X-LOCATION-DISPLAYNAME:Pfarrkirche St. Aloysius Oberbruch
X-ACCESS:1
X-HITS:727
X-COLOR:47235c
X-SHOW-END-TIME:0
END:VEVENT
BEGIN:VEVENT
DTSTART;TZID=Europe/Berlin:20200523T183000
DTEND;TZID=Europe/Berlin:20200523T193000
UID:86907B45-6FFE-42D3-B89D-0F2B72906525
SUMMARY:Hl. Messe am 23.05.2020
CREATED:20200513T184722Z
DTSTAMP:20200513T184722Z
URL:https://aloysius-oberbruch.de/informationen/termine/hl-messe-2
DESCRIPTION:Telefonische Anmeldung im Pfarrbüro erforderlich.Weitere Informationen hier.
X-ALT-DESC;FMTTYPE=text/html:<p>Telefonische Anmeldung im Pfarrbüro erforderlich.<br />Weitere Informationen <a href="https://aloysius-oberbruch.de/?view=article&id=37:erster-gottesdienst-am-10-mai-2020-information-und-regeln&catid=16:aktuell">hier</a>.</p>
LAST-MODIFIED:20200513T185951Z
SEQUENCE:749
LOCATION:Boos-Fremery-Str. 1\, 52525 Heinsberg
GEO:51.06102016;6.14655139
X-LOCATION-DISPLAYNAME:Pfarrkirche St. Aloysius Oberbruch
X-ACCESS:1
X-HITS:1071
X-COLOR:47235c
X-SHOW-END-TIME:0
END:VEVENT
BEGIN:VEVENT
DTSTART;TZID=Europe/Berlin:20200531T103000
DTEND;TZID=Europe/Berlin:20200531T113000
UID:B878D114-B470-4249-9A54-6CE59C8C007F
SUMMARY:Hl. Messe am Pfingstsonntag
CREATED:20200513T184923Z
DTSTAMP:20200513T184923Z
URL:https://aloysius-oberbruch.de/informationen/termine/hl-messe-pfingstsonntag
DESCRIPTION:Telefonische Anmeldung im Pfarrbüro erforderlich.Weitere Informationen hier.
X-ALT-DESC;FMTTYPE=text/html:<p>Telefonische Anmeldung im Pfarrbüro erforderlich.<br />Weitere Informationen <a href="https://aloysius-oberbruch.de/?view=article&id=37:erster-gottesdienst-am-10-mai-2020-information-und-regeln&catid=16:aktuell">hier</a>.</p>
LAST-MODIFIED:20200513T185957Z
SEQUENCE:634
LOCATION:Boos-Fremery-Str. 1\, 52525 Heinsberg
GEO:51.06102016;6.14655139
X-LOCATION-DISPLAYNAME:Pfarrkirche St. Aloysius Oberbruch
X-ACCESS:1
X-HITS:1717
X-COLOR:47235c
X-SHOW-END-TIME:0
END:VEVENT
BEGIN:VEVENT
DTSTART;TZID=Europe/Berlin:20201115T103000
DTEND;TZID=Europe/Berlin:20201115T113000
UID:8693F146-B238-4E9A-9264-F294BCC974EA
SUMMARY:„Ewiges Gebet“
CREATED:20201023T193122Z
DTSTAMP:20201023T193122Z
URL:https://www.aloysius-oberbruch.de/informationen/berichte-aus-der-gemeinde/42-ewiges-gebet
LAST-MODIFIED:20201023T193447Z
SEQUENCE:205
LOCATION:Boos-Fremery-Str. 1\, 52525 Heinsberg
GEO:51.06102016;6.14655139
X-LOCATION-DISPLAYNAME:Pfarrkirche St. Aloysius Oberbruch
X-ACCESS:1
X-HITS:786
X-COLOR:47235c
X-SHOW-END-TIME:0
END:VEVENT
END:VCALENDAR